BEGIN:VCALENDAR
PRODID://WordPress//Event-Post-V5.9.2//EN
VERSION:2.0
BEGIN:VTIMEZONE
TZID:America/New_York
BEGIN:DAYLIGHT
TZOFFSETFROM:+0100
TZOFFSETTO:-0400
DTSTART:19700329T020000
RRULE:FREQ=YEARLY;BYDAY=-1SU;BYMONTH=3
END:DAYLIGHT
BEGIN:STANDARD
TZOFFSETFROM:-0400
TZOFFSETTO:+0100
TZNAME:CET
DTSTART:19701025T030000
RRULE:FREQ=YEARLY;BYDAY=-1SU;BYMONTH=10
END:STANDARD
END:VTIMEZONE
BEGIN:VEVENT
SUMMARY:NJLLA 2026 Annual Business Meeting
UID:https://njlla.org/2026/04/njlla-2026-annual-business-meeeting/
LOCATION:
DTSTAMP:20260506T123000
DTSTART;TZID=America/New_York:20260506T123000
DTEND;TZID=America/New_York:20260506T133000
DESCRIPTION:Join us for NJLLA’s 2026 Annual Business Meeting! NJLLA leadership and
committees will share what was accomplished during the 2025-26 year and
thoughts on the future. We will also vote on the Executive Board Nomination
slate!
DATE:                        Wednesday, May 6, 2026
TIME:                         12:30 noon – 1:30 pm
LOCATION:               Zoom
RSVP:   Email your RSVP to Kathy Taggart (ktaggart@lowenstein.com). You
will then receive a calendar invite with Zoom details.
At the Annual Meeting, we will also review and vote on proposed changes to
NJLLA's bylaws. Please review this overview of the proposed changes and the
bylaws with proposed changes. 
NEW JERSEY LAW LIBRARIANS ASSOCIATION2025 -2026 NOMINEES FOR OFFICE
In accordance with Article IX, Section 1 (b) of the bylaws, the Nominating
Committee is pleased to present its candidates for the following offices:
PRESIDENT(Filling vacancy from VP resignation)Magalie DeSinceSullivan &amp;
Cromwell LLPNew York, NY
VICE-PRESIDENT/PRESIDENT-ELECTKathy TaggartLowenstein Sandler LLPRoseland,
NJ
PAST PRESIDENT(Appointed automatically by succession.)Amber CainSeton Hall
Law LibraryNewark, NJ
TREASURER(Replacing K. Taggart for second year of 2 year term)Zoraida
MichaudLowenstein Sandler LLPRoseland, NJ
SECRETARYNicole DanteRiker Danzig LLPMadison, NJ
MEMBERS-AT –LARGEJohanna BizubMorris County Real Estate LawMorristown, NJ
Serena KooConnell Foley LLPRoseland, NJ
ADDITIONAL NOMINATIONS:The Nominating Committee solicits the membership for
input during the selection process and it is deemed that the nominees
presented are the candidates of the membership. However, any member in good
standing in the Association may make additional nominations by petition.
The member must contact the President at least 10* days prior to the annual
meeting, submitting the petition in writing, endorsed with the signatures
of at least 10 other members, as specified in Article IX, Section 1 (c) of
the Association's bylaws. (*normally 30 days)
ELECTIONS:Election of officers will occur at the Association's annual
business meeting (virtual) on May 6, 2026.
END:VEVENT
END:VCALENDAR