BEGIN:VCALENDAR
PRODID://WordPress//Event-Post-V5.9.2//EN
VERSION:2.0
BEGIN:VTIMEZONE
TZID:America/New_York
BEGIN:DAYLIGHT
TZOFFSETFROM:+0100
TZOFFSETTO:-0400
DTSTART:19700329T020000
RRULE:FREQ=YEARLY;BYDAY=-1SU;BYMONTH=3
END:DAYLIGHT
BEGIN:STANDARD
TZOFFSETFROM:-0400
TZOFFSETTO:+0100
TZNAME:CET
DTSTART:19701025T030000
RRULE:FREQ=YEARLY;BYDAY=-1SU;BYMONTH=10
END:STANDARD
END:VTIMEZONE
BEGIN:VEVENT
SUMMARY:Documentary Film Watch Party
UID:https://njlla.org/2026/04/documentary-film-watch-party/
LOCATION:
DTSTAMP:20260514T173000
DTSTART;TZID=America/New_York:20260514T173000
DTEND;TZID=America/New_York:20260514T200000
DESCRIPTION:Please join your fellow NJLLA and LLAGNY members for an in-person watch
party of Jon Osaki's documentary film, Alternative Facts: The Lies of
Executive Order 9066, followed by a Q&amp;A with Jon Osaki, in
recognition of Asian American Pacific Islander Heritage Month. This watch
party will be simulcast for members of LLAGNY, to foster unity with our
peers across the Hudson!
Date: Thursday, May 14, 2026Time: 5:30 - 8:00 pmLocations: Seton Hall
University Concierge Space at Gateway Center 2, Newark NJ; Norton Rose
Fulbright's office in Manhattan, and on Zoom
To register: Contact Mandy Lee by Wednesday, May 13, 2026 at
mandy.lee@shu.edu
Cost: Free for NJLLA and LLAGNY Members
Suggested parking (there are many other lots available. Parking fee is
personal responsibility):Three Gateway Garage267 Market St.   – Up to
concourse level 5, turn right past Jersey Mike’s
Dropoff Directions:Gateway Two, 283-299 Market Street– corner of Market
St. and McCarter Highway– Up escalator, past security desk to the left
END:VEVENT
END:VCALENDAR